BEGIN:VCALENDAR
VERSION:2.0
CALSCALE:GREGORIAN
METHOD:PUBLISH
X-WR-TIMEZONE:Australia/Sydney
BEGIN:VTIMEZONE
TZID:Australia/Sydney
BEGIN:STANDARD
TZNAME:AEST
END:STANDARD
END:VTIMEZONE
BEGIN:VEVENT
DTSTART;TZID=Australia/Sydney:20250610T190000
DTEND;TZID=Australia/Sydney:20250610T200000
DTSTAMP:20260421T184521
UID:220
SUMMARY:P&amp;C Meeting - All Welcome - 7pm
DESCRIPTION:







SEQUENCE:0
STATUS:CONFIRMED
TRANSP:OPAQUE
END:VEVENT
END:VCALENDAR